BEGIN:VCALENDAR
VERSION:2.0
PRODID:Iowa City, IA Calendar Creator
METHOD:PUBLISH
BEGIN:VEVENT
DTSTAMP:20260420T080847
DTSTART:20260421T180000
DTEND:20260421T235900
SUMMARY:City Council Formal Meeting
DESCRIPTION:<a href="https://www.icgov.org/government/city-council/agendas-and-minutes" target="_blank" rel="noopener">View agenda for this meeting.</a>
X-ALT-DESC;FMTTYPE=text/html:<a href="https://www.icgov.org/government/city-council/agendas-and-minutes" target="_blank" rel="noopener">View agenda for this meeting.</a>
LOCATION:Emma J. Harvat Hall - City Hall\, 410 E Washington Street Iowa City\, Iowa 52240
CLASS:PUBLIC
END:VEVENT
END:VCALENDAR
