BEGIN:VCALENDAR
VERSION:2.0
PRODID:Iowa City, IA Calendar Creator
METHOD:PUBLISH
BEGIN:VEVENT
DTSTAMP:20260417T144240
DTSTART:20260425T093000
DTEND:20260425T113000
SUMMARY:Celebrate World T'ai Chi & Qigong Day
DESCRIPTION:<div x14z9mp="" xat24cr="" x1lziwak="" x1vvkbs"="">Celebrate World T'ai Chi &amp; Qigong Day at the Iowa City Senior Center on Saturday, April 25 from 9:30-11:30 am. Around the globe on the last Saturday in April, people practice the healing, peaceful movements of T'ai Chi and Qigong. Join us in creating 24 hours of unity, wellness, and peace around the world.</div><div x14z9mp="" xat24cr="" x1lziwak="" x1vvkbs"="">&nbsp;</div><div x14z9mp="" xat24cr="" x1lziwak="" x1vvkbs"="">This event is free and open to everyone. Tea and cookies will be provided. Co-sponsored by Body Moves Fitness and Wellness Center and Iowa City Senior Center.</div><div xat24cr="" x1lziwak="" x1vvkbs="" xtlvy1s"=""></div>
X-ALT-DESC;FMTTYPE=text/html:<div x14z9mp="" xat24cr="" x1lziwak="" x1vvkbs"="">Celebrate World T'ai Chi &amp; Qigong Day at the Iowa City Senior Center on Saturday, April 25 from 9:30-11:30 am. Around the globe on the last Saturday in April, people practice the healing, peaceful movements of T'ai Chi and Qigong. Join us in creating 24 hours of unity, wellness, and peace around the world.</div><div x14z9mp="" xat24cr="" x1lziwak="" x1vvkbs"="">&nbsp;</div><div x14z9mp="" xat24cr="" x1lziwak="" x1vvkbs"="">This event is free and open to everyone. Tea and cookies will be provided. Co-sponsored by Body Moves Fitness and Wellness Center and Iowa City Senior Center.</div><div xat24cr="" x1lziwak="" x1vvkbs="" xtlvy1s"=""></div>
LOCATION:Iowa City Senior Center\, 28 S Linn Street Iowa City\, Iowa 52240
CLASS:PUBLIC
END:VEVENT
END:VCALENDAR
