BEGIN:VCALENDAR
VERSION:2.0
PRODID:Iowa City, IA Calendar Creator
METHOD:PUBLISH
BEGIN:VEVENT
DTSTAMP:20260417T141603
DTSTART:20260429T173000
DTEND:20260429T200000
SUMMARY:Swing Into Spring! Silver Swing Dance
DESCRIPTION:<p><strong>Wednesday, April 29, 2026<div></div></strong></p><ul>    <li><strong>5:30-6 pm: Swing dance demonstration &amp; lesson </strong></li>    <li><strong>6-8 pm: Live music &amp; open dancing </strong></li></ul><p><strong>Location: Assembly Room </strong></p><p><strong><a href="http://apm.activecommunities.com/iowacityseniorcenter/Activity_Search/18632" target="_blank" rel="noopener">Register online</a> or call 319-356-5220</strong></p><p><strong>Open to all ages and abilities!</strong></p><p>Step into the rhythm, joy, and rich cultural history of swing dance in this lively evening of music and movement. Swing dance is a social, expressive style rooted in African American jazz traditions and includes favorites such as Lindy Hop, Charleston, and East Coast Swing. These improvisational dances grew alongside the popular music of the 1920s, 30s, and 40s and still continue to bring people together on dance floors. </p><p>The evening features live music by the Silver Swing Band, a dynamic 16-piece Big Band ensemble directed by Steve Grismore. Known for its vibrant 1940s swing sound and expanded repertoire of classic Big Band jazz, Silver Swing delights both longtime fans and newer generations discovering swing for the first time. </p><p>Join us early from 5:30-6 pm to learn some basics before the dance begins. Members of the Iowa City Swing Dance group will offer demonstrations and beginner-friendly lessons before the dance begins. </p><p>Optional attire: Spring colors or vintage swing-inspired style welcome. No partner or experience is needed—just come ready to move, listen, and revel in a joyful springtime celebration!</p>
X-ALT-DESC;FMTTYPE=text/html:<p><strong>Wednesday, April 29, 2026<div></div></strong></p><ul>    <li><strong>5:30-6 pm: Swing dance demonstration &amp; lesson </strong></li>    <li><strong>6-8 pm: Live music &amp; open dancing </strong></li></ul><p><strong>Location: Assembly Room </strong></p><p><strong><a href="http://apm.activecommunities.com/iowacityseniorcenter/Activity_Search/18632" target="_blank" rel="noopener">Register online</a> or call 319-356-5220</strong></p><p><strong>Open to all ages and abilities!</strong></p><p>Step into the rhythm, joy, and rich cultural history of swing dance in this lively evening of music and movement. Swing dance is a social, expressive style rooted in African American jazz traditions and includes favorites such as Lindy Hop, Charleston, and East Coast Swing. These improvisational dances grew alongside the popular music of the 1920s, 30s, and 40s and still continue to bring people together on dance floors. </p><p>The evening features live music by the Silver Swing Band, a dynamic 16-piece Big Band ensemble directed by Steve Grismore. Known for its vibrant 1940s swing sound and expanded repertoire of classic Big Band jazz, Silver Swing delights both longtime fans and newer generations discovering swing for the first time. </p><p>Join us early from 5:30-6 pm to learn some basics before the dance begins. Members of the Iowa City Swing Dance group will offer demonstrations and beginner-friendly lessons before the dance begins. </p><p>Optional attire: Spring colors or vintage swing-inspired style welcome. No partner or experience is needed—just come ready to move, listen, and revel in a joyful springtime celebration!</p>
LOCATION:Iowa City Senior Center\, 28 S Linn Street Iowa City\, Iowa 52240
CLASS:PUBLIC
END:VEVENT
END:VCALENDAR
