BEGIN:VCALENDAR
VERSION:2.0
PRODID:Iowa City, IA Calendar Creator
METHOD:PUBLISH
BEGIN:VEVENT
DTSTAMP:20260417T102115
DTSTART:20260423T170000
DTEND:20260423T235900
SUMMARY:Iowa City Public Library Board of Trustees Meeting
DESCRIPTION:<a href="https://www.iowa-city.org/WebLink/DocView.aspx?id=2268072&amp;dbid=0&amp;repo=CityofIowaCity" target="_blank" rel="noopener">View agenda for this meeting.</a>
X-ALT-DESC;FMTTYPE=text/html:<a href="https://www.iowa-city.org/WebLink/DocView.aspx?id=2268072&amp;dbid=0&amp;repo=CityofIowaCity" target="_blank" rel="noopener">View agenda for this meeting.</a>
LOCATION:Iowa City Public Library\, Boardroom\, 123 South Linn Street Iowa City\, Iowa 52240
CLASS:PUBLIC
END:VEVENT
END:VCALENDAR
