BEGIN:VCALENDAR
VERSION:2.0
PRODID:Iowa City, IA Calendar Creator
METHOD:PUBLISH
BEGIN:VEVENT
DTSTAMP:20260416T125313
DTSTART:20260422T081500
DTEND:20260422T235900
SUMMARY:Civil Service Commission meeting
DESCRIPTION:<a href="https://www.icgov.org/government/boards-commissions-and-committees/civil-service-commission" target="_blank" rel="noopener">View agenda for this meeting and learn more about the Civil Service Commission.&nbsp;</a>
X-ALT-DESC;FMTTYPE=text/html:<a href="https://www.icgov.org/government/boards-commissions-and-committees/civil-service-commission" target="_blank" rel="noopener">View agenda for this meeting and learn more about the Civil Service Commission.&nbsp;</a>
LOCATION:
CLASS:PUBLIC
END:VEVENT
END:VCALENDAR
