BEGIN:VCALENDAR
VERSION:2.0
PRODID:Iowa City, IA Calendar Creator
METHOD:PUBLISH
BEGIN:VEVENT
DTSTAMP:20251201T141952
DTSTART:20260424T093000
DTEND:20260424T113000
SUMMARY:Last Day of Tot Time
DESCRIPTION:<p>Tot Time is an exciting indoor play area for kids ages 1-6 to explore, socialize, and have fun! Activities include trikes, slides, basketball hoop, tumbling mat, a roller coaster, inflatable bounce area, and more. Parent supervision required.</p><p>$1 drop-in fee</p><div dir="auto">&nbsp;Monday - Friday, January 5 - April 24</div><div dir="auto">&nbsp;9:30 - 11:30 a.m.</div><div dir="auto">&nbsp;Mercer Park Aquatic Center</div>
X-ALT-DESC;FMTTYPE=text/html:<p>Tot Time is an exciting indoor play area for kids ages 1-6 to explore, socialize, and have fun! Activities include trikes, slides, basketball hoop, tumbling mat, a roller coaster, inflatable bounce area, and more. Parent supervision required.</p><p>$1 drop-in fee</p><div dir="auto">&nbsp;Monday - Friday, January 5 - April 24</div><div dir="auto">&nbsp;9:30 - 11:30 a.m.</div><div dir="auto">&nbsp;Mercer Park Aquatic Center</div>
LOCATION:Mercer Park Aquatic Center & Scanlon Gym\, 2701 Bradford Drive Iowa City\, Iowa 52240
CLASS:PUBLIC
END:VEVENT
END:VCALENDAR
