BEGIN:VCALENDAR
VERSION:2.0
PRODID:Iowa City, IA Calendar Creator
METHOD:PUBLISH
BEGIN:VEVENT
DTSTAMP:20251201T141940
DTSTART:20260425T173000
DTEND:20260425T190000
SUMMARY:Last Day of Roller Skating (All Levels)
DESCRIPTION:<p>All ages welcome to skate. Youth 11 and under must be with an adult (18+) who stays in the gym. Groups limited to 5 kids per adult. Skate checkout requires a facility pass. Socks required. Some dates may be unavailable.</p><p>No fee.</p><div dir="auto">&nbsp;Saturdays, January 24 - April 25</div><div dir="auto">&nbsp;5:30 - 7 p.m.</div><div dir="auto">&nbsp;Robert A. Lee Rec Center</div>
X-ALT-DESC;FMTTYPE=text/html:<p>All ages welcome to skate. Youth 11 and under must be with an adult (18+) who stays in the gym. Groups limited to 5 kids per adult. Skate checkout requires a facility pass. Socks required. Some dates may be unavailable.</p><p>No fee.</p><div dir="auto">&nbsp;Saturdays, January 24 - April 25</div><div dir="auto">&nbsp;5:30 - 7 p.m.</div><div dir="auto">&nbsp;Robert A. Lee Rec Center</div>
LOCATION:Robert A. Lee Community Recreation Center\, 220 S. Gilbert Street Iowa City\, Iowa 52240
CLASS:PUBLIC
END:VEVENT
END:VCALENDAR
