BEGIN:VCALENDAR
VERSION:2.0
PRODID:Iowa City, IA Calendar Creator
METHOD:PUBLISH
BEGIN:VEVENT
DTSTAMP:20251201T141933
DTSTART:20260424T093000
DTEND:20260424T233000
SUMMARY:Tot Tastic Day Off
DESCRIPTION:<p>During ICCSD no-school days, Tot Time will feature four inflatable play zones, each packed with thrilling activities. Kids can jump, bounce, and slide to their hearts’ content, with the age limit increased to 8 years old.</p><p>$1 drop-in fee</p><div dir="auto">&nbsp;April 24</div><div dir="auto">&nbsp;9:30 - 11:30 a.m.</div><div dir="auto">&nbsp;Mercer Park Aquatic Center</div>
X-ALT-DESC;FMTTYPE=text/html:<p>During ICCSD no-school days, Tot Time will feature four inflatable play zones, each packed with thrilling activities. Kids can jump, bounce, and slide to their hearts’ content, with the age limit increased to 8 years old.</p><p>$1 drop-in fee</p><div dir="auto">&nbsp;April 24</div><div dir="auto">&nbsp;9:30 - 11:30 a.m.</div><div dir="auto">&nbsp;Mercer Park Aquatic Center</div>
LOCATION:Mercer Park Aquatic Center & Scanlon Gym\, 2701 Bradford Drive Iowa City\, Iowa 52240
CLASS:PUBLIC
END:VEVENT
END:VCALENDAR
