BEGIN:VCALENDAR
VERSION:2.0
PRODID:Iowa City, IA Calendar Creator
METHOD:PUBLISH
BEGIN:VEVENT
DTSTAMP:20251201T141930
DTSTART:20260411T130000
DTEND:20260411T160000
SUMMARY:Earth Expo
DESCRIPTION:<p>Explore information and activities from environmental organizations in Iowa. Learn about how they are addressing Climate Change and how you can take action. This event is brought to you in collaboration with Climate Action Outreach and Green Iowa AmeriCorps.</p><p>No fee.</p><p><div dir="auto">&nbsp;Saturday, April 11</div><div dir="auto"> 1 - 4 p.m.</div><div dir="auto">&nbsp;Robert A. Lee Rec Center</div></p>
X-ALT-DESC;FMTTYPE=text/html:<p>Explore information and activities from environmental organizations in Iowa. Learn about how they are addressing Climate Change and how you can take action. This event is brought to you in collaboration with Climate Action Outreach and Green Iowa AmeriCorps.</p><p>No fee.</p><p><div dir="auto">&nbsp;Saturday, April 11</div><div dir="auto"> 1 - 4 p.m.</div><div dir="auto">&nbsp;Robert A. Lee Rec Center</div></p>
LOCATION:Robert A. Lee Community Recreation Center\, 220 S. Gilbert Street Iowa City\, Iowa 52240
CLASS:PUBLIC
END:VEVENT
END:VCALENDAR
