BEGIN:VCALENDAR
VERSION:2.0
PRODID:Iowa City, IA Calendar Creator
METHOD:PUBLISH
BEGIN:VEVENT
DTSTAMP:20251201T141929
DTSTART:20260425T100000
DTEND:20260425T120000
SUMMARY:Disability Expo
DESCRIPTION:<p>Explore resources, innovations, and services designed to empower individuals with disabilities. Connect with vendors and discover tools that promote independence, accessibility, and community support for all.</p><p>No fee.</p><p><div dir="auto"> Saturday, April 25</div><div dir="auto"> 10 a.m. - 12 p.m.</div><div dir="auto"> Mercer Park Aquatic Center</div></p>
X-ALT-DESC;FMTTYPE=text/html:<p>Explore resources, innovations, and services designed to empower individuals with disabilities. Connect with vendors and discover tools that promote independence, accessibility, and community support for all.</p><p>No fee.</p><p><div dir="auto"> Saturday, April 25</div><div dir="auto"> 10 a.m. - 12 p.m.</div><div dir="auto"> Mercer Park Aquatic Center</div></p>
LOCATION:Mercer Park Aquatic Center & Scanlon Gym\, 2701 Bradford Drive Iowa City\, Iowa 52240
CLASS:PUBLIC
END:VEVENT
END:VCALENDAR
